BEGIN:VCALENDAR
VERSION:2.0
PRODID:-//eventon.com NONSGML v1.0//EN
BEGIN:VEVENT
UID:69e737234dd55
DTSTAMP:20260421T053651
DTSTART:20200423T190000Z
DTEND:20200424T025000Z
TZID:America/Montevideo
LOCATION:Zoom 
SUMMARY:Mediciones básicas a tener en cuenta en el canal de venta online
DESCRIPTION: Mediciones básicas a tener en cuenta en el canal de venta online\nhttps://www.cedu.org.uy/eventos/mediciones-basicas-a-tener-en-cuenta-en-el-canal-de-venta-online/
URL:https://www.cedu.org.uy/eventos/mediciones-basicas-a-tener-en-cuenta-en-el-canal-de-venta-online/
END:VEVENT
END:VCALENDAR