BEGIN:VCALENDAR
VERSION:2.0
PRODID:-//eventon.com NONSGML v1.0//EN
BEGIN:VEVENT
UID:69ecab70f02a9
DTSTAMP:20260425T085424
DTSTART:20260430T123000Z
DTEND:20260501T025000Z
TZID:America/Montevideo
LOCATION:Paseo Pasaje de las Carretas 2580\,  Montevideo Paseo Pasaje de las Carretas 2580\,  Montevideo
SUMMARY:Segmentación\,  RFM y flujos post-compra: Estrategia 360°
DESCRIPTION: Un evento en el que se compartirá un caso de éxito en moda\,  y donde se mostrará el detrás de escena de una estrategia 360°: segmentación\,  RFM y flujos post-compra para potenciar resultados en ecommerce. Van a estar participando referentes de Torem\,  icomm y NOA\,  contando la estrategia y aprendizajes[..]\nhttps://www.cedu.org.uy/eventos/segmentacion-rfm-y-flujos-post-compra-estrategia-360/
URL:https://www.cedu.org.uy/eventos/segmentacion-rfm-y-flujos-post-compra-estrategia-360/
END:VEVENT
END:VCALENDAR