BEGIN:VCALENDAR
VERSION:2.0
PRODID:-//eventon.com NONSGML v1.0//EN
BEGIN:VEVENT
UID:69ecaaff49f3e
DTSTAMP:20260425T085231
DTSTART:20260528T160000Z
DTEND:20260528T233000Z
TZID:America/Montevideo
LOCATION:Centro de Eventos del LATU Avenida Dra. María Luisa Saldún de Rodríguez 2037
SUMMARY:MEGA Experiencia Endeavor MENTORS 2026
DESCRIPTION: El próximo 28 de mayo\,  en el Centro de Convenciones del LATU\,  llega el evento para emprendedores Mega Experiencia Endeavor — Edición Mentors. Un evento pensado para emprendedores que ya están en acción\,  que necesitan feedback real y conversaciones que sumen. Durante la experiencia vas a poder: Participar de 3 rondas de mentorías.[..]\nhttps://www.cedu.org.uy/eventos/mega-experiencia-endeavor-mentors-2026/
URL:https://www.cedu.org.uy/eventos/mega-experiencia-endeavor-mentors-2026/
END:VEVENT
END:VCALENDAR