BEGIN:VCALENDAR
VERSION:2.0
PRODID:-//eventon.com NONSGML v1.0//EN
BEGIN:VEVENT
UID:69e4d00a5f74a
DTSTAMP:20260419T095226
DTSTART:20230411T123000Z
DTEND:20230411T133000Z
TZID:America/Montevideo
LOCATION:
SUMMARY:Charla informativa sobre CIBERLUNES
DESCRIPTION: ¿Por qué tu marca tiene que estar en el evento de descuentos online más grande de Uruguay? ¿Cómo hacer para participar? ¡Te contamos todo esto y más en la próxima charla informativa para marcas!\nhttps://www.cedu.org.uy/eventos/charla-informativa-sobre-ciberlunes/
URL:https://www.cedu.org.uy/eventos/charla-informativa-sobre-ciberlunes/
END:VEVENT
END:VCALENDAR