BEGIN:VCALENDAR
VERSION:2.0
PRODID:-//eventon.com NONSGML v1.0//EN
BEGIN:VEVENT
UID:69e5e6248d8f3
DTSTAMP:20260420T053900
DTSTART:20230302T210000Z
DTEND:20230303T025000Z
TZID:America/Montevideo
LOCATION:
SUMMARY:Las Últimas Horas: La logística que dio éxito a las vacunas en Uruguay
DESCRIPTION: La distribución de vacunas contra COVID-19 ha sido uno de los desafíos logísticos más grandes de la historia de la humanidad. El planeta entero tuvo que avanzar en la estrategia más veloz y segura para afrontar esta problemática\,  siendo Uruguay un verdadero ejemplo que dio que hablar en el mundo[..]\nhttps://www.cedu.org.uy/eventos/las-ultimas-horas-la-logistica-que-dio-exito-a-las-vacunas-en-uruguay/
URL:https://www.cedu.org.uy/eventos/las-ultimas-horas-la-logistica-que-dio-exito-a-las-vacunas-en-uruguay/
END:VEVENT
END:VCALENDAR