BEGIN:VCALENDAR
VERSION:2.0
PRODID:-//eventon.com NONSGML v1.0//EN
BEGIN:VEVENT
UID:69eb98402cd9f
DTSTAMP:20260424T132016
DTSTART:20221011T140000Z
DTEND:20221011T143000Z
TZID:America/Montevideo
LOCATION:
SUMMARY:Reduce hasta 35% tus costos en RRHH
DESCRIPTION: En este nuevo webinar\,  nuestra Gte de Implementación va a estar mostrando como clientes de Workforce.com lograron reducir hasta un 35% sus costos en recursos humanos. Además contaremos con la participación de Advice\,  empresa líder en RRHH.\nhttps://www.cedu.org.uy/eventos/reduce-hasta-35-tus-costos-en-rrhh/
URL:https://www.cedu.org.uy/eventos/reduce-hasta-35-tus-costos-en-rrhh/
END:VEVENT
END:VCALENDAR