BEGIN:VCALENDAR
VERSION:2.0
PRODID:-//eventon.com NONSGML v1.0//EN
BEGIN:VEVENT
UID:69e735d567869
DTSTAMP:20260421T053117
DTSTART:20201125T124500Z
DTEND:20201127T124500Z
TZID:America/Montevideo
LOCATION:
SUMMARY:Acercate al ecommerce y exportá al mundo - Evento Virtual
DESCRIPTION: Te invitamos a una serie de encuentros donde podrás conectar con plataformas de venta online\,  servicios de envíos\,  pasarelas de pago y despachantes de aduana\,  así como con referentes del LATU y la Ventanilla Única de Comercio Exterior (VUCE). También podrás contactarte con empresas que realizan ventas al exterior vía[..]\nhttps://www.cedu.org.uy/eventos/acercate-al-ecommerce-y-exporta-al-mundo-evento-virtual/
URL:https://www.cedu.org.uy/eventos/acercate-al-ecommerce-y-exporta-al-mundo-evento-virtual/
END:VEVENT
END:VCALENDAR