BEGIN:VCALENDAR
VERSION:2.0
PRODID:-//eventon.com NONSGML v1.0//EN
BEGIN:VEVENT
UID:69e7379860959
DTSTAMP:20260421T053848
DTSTART:20201118T130000Z
DTEND:20201119T025000Z
TZID:America/Montevideo
LOCATION:
SUMMARY:WEBINAR: Lo que necesitás saber antes de lanzar tu canal de ventas online
DESCRIPTION: Fenicio eCommerce te invita a participar de este taller en el que se compartirán lecciones aprendidas\,  y en el que podrás evacuar tus dudas y consultas\,  antes de decidir avanzar en la tienda online de tu empresa. La cita es el próximo miércoles 18 de noviembre a las 10.00 horas\, [..]\nhttps://www.cedu.org.uy/eventos/webinar-fenicio-lo-que-necesitas-saber-antes-de-lanzar-tu-canal-de-ventas-online/
URL:https://www.cedu.org.uy/eventos/webinar-fenicio-lo-que-necesitas-saber-antes-de-lanzar-tu-canal-de-ventas-online/
END:VEVENT
END:VCALENDAR